BEGIN:VCALENDAR
VERSION:2.0
CALSCALE:GREGORIAN
PRODID:-//Diputació de Barcelona//DibaCMS//EN
BEGIN:VEVENT
UID:24962
DTSTAMP:20260423T134447
DTSTART:20230325T090000
DTEND:20230325T140000
SUMMARY:2a Jornada d'Acció Climàtica
LOCATION:
METHOD:PUBLISH
X-WR-CALNAME:caldesm@caldesdemontbui.cat
X-WR-TIMEZONE:Europe/Madrid
DESCRIPTION:
URI:https://www.caldesdemontbui.cat/actualitat/agenda/2a-jornada-daccio-climatica.html
CLASS:PUBLIC
END:VEVENT
END:VCALENDAR
