BEGIN:VCALENDAR
VERSION:2.0
CALSCALE:GREGORIAN
PRODID:-//Diputació de Barcelona//DibaCMS//EN
BEGIN:VEVENT
UID:24951
DTSTAMP:20260423T080703
DTSTART:20230319T163000
DTEND:20230319T163000
SUMMARY:V Jornada de la Lliga Catalana de Touch
LOCATION:
METHOD:PUBLISH
X-WR-CALNAME:caldesm@caldesdemontbui.cat
X-WR-TIMEZONE:Europe/Madrid
DESCRIPTION:
URI:https://www.caldesdemontbui.cat/actualitat/agenda/v-jornada-de-la-lliga-catalana-de-touch.html
CLASS:PUBLIC
END:VEVENT
END:VCALENDAR
