BEGIN:VCALENDAR
VERSION:2.0
CALSCALE:GREGORIAN
PRODID:-//Diputació de Barcelona//DibaCMS//EN
BEGIN:VEVENT
UID:24919
DTSTAMP:20260423T083610
DTSTART:20230312T120000
DTEND:20230312T120000
SUMMARY:Diada de la Policia Local
LOCATION:
METHOD:PUBLISH
X-WR-CALNAME:caldesm@caldesdemontbui.cat
X-WR-TIMEZONE:Europe/Madrid
DESCRIPTION:
URI:https://www.caldesdemontbui.cat/actualitat/agenda/diada-de-la-policia-local.html
CLASS:PUBLIC
END:VEVENT
END:VCALENDAR
