BEGIN:VCALENDAR
VERSION:2.0
CALSCALE:GREGORIAN
PRODID:-//Diputació de Barcelona//DibaCMS//EN
BEGIN:VEVENT
UID:24914
DTSTAMP:20260423T045156
DTSTART:20230304T120000
DTEND:20230304T120000
SUMMARY:Exposició "Som ateneus!", del 4 al 24 de març
LOCATION: Corredossos de Baix, 9-11 (antic 1) 8140 Caldes de Montbui
METHOD:PUBLISH
X-WR-CALNAME:caldesm@caldesdemontbui.cat
X-WR-TIMEZONE:Europe/Madrid
DESCRIPTION:
URI:https://www.caldesdemontbui.cat/actualitat/agenda/exposicio-som-ateneus-del-4-al-24-de-marc.html
CLASS:PUBLIC
END:VEVENT
END:VCALENDAR
