BEGIN:VCALENDAR
VERSION:2.0
CALSCALE:GREGORIAN
PRODID:-//Diputació de Barcelona//DibaCMS//EN
BEGIN:VEVENT
UID:24901
DTSTAMP:20260423T162434
DTSTART:20230226T063000
DTEND:20230226T063000
SUMMARY: 2a etapa del Camí Natural de La Muga. Pont de Molins - Empuriabrava
LOCATION:
METHOD:PUBLISH
X-WR-CALNAME:caldesm@caldesdemontbui.cat
X-WR-TIMEZONE:Europe/Madrid
DESCRIPTION:
URI:https://www.caldesdemontbui.cat/actualitat/agenda/-2a-etapa-del-cami-natural-de-la-muga-pont-de-molins-empuriabrava.html
CLASS:PUBLIC
END:VEVENT
END:VCALENDAR
