BEGIN:VCALENDAR
VERSION:2.0
CALSCALE:GREGORIAN
PRODID:-//Diputació de Barcelona//DibaCMS//EN
BEGIN:VEVENT
UID:24880
DTSTAMP:20260423T080311
DTSTART:20230608T180000
DTEND:20230608T190000
SUMMARY:Portes obertes a l'Escola d'Adults Municipal El Roure Gros. Visita a les instal·lacions 
LOCATION:Gregori Montserrat, 4 08140 Caldes de Montbui
METHOD:PUBLISH
X-WR-CALNAME:caldesm@caldesdemontbui.cat
X-WR-TIMEZONE:Europe/Madrid
DESCRIPTION:Educació d’adults

URI:https://www.caldesdemontbui.cat/actualitat/agenda/portes-obertes-a-lescola-dadults-municipal-el-roure-gros-visita-a-les-installacions-.html
CLASS:PUBLIC
END:VEVENT
END:VCALENDAR
