BEGIN:VCALENDAR
VERSION:2.0
CALSCALE:GREGORIAN
PRODID:-//Diputació de Barcelona//DibaCMS//EN
BEGIN:VEVENT
UID:24872
DTSTAMP:20260423T134407
DTSTART:20230421T171500
DTEND:20230421T171500
SUMMARY:Portes obertes a l'Escola Bressol Municipal El Gegant del Pi
LOCATION:General Padrós, 38 08140 Caldes de Montbui
METHOD:PUBLISH
X-WR-CALNAME:caldesm@caldesdemontbui.cat
X-WR-TIMEZONE:Europe/Madrid
DESCRIPTION:Educació infantil 1r cicle

URI:https://www.caldesdemontbui.cat/actualitat/agenda/portes-obertes-a-lescola-bressol-municipal-el-gegant-del-pi.html
CLASS:PUBLIC
END:VEVENT
END:VCALENDAR
