BEGIN:VCALENDAR
VERSION:2.0
CALSCALE:GREGORIAN
PRODID:-//Diputació de Barcelona//DibaCMS//EN
BEGIN:VEVENT
UID:24871
DTSTAMP:20260423T150300
DTSTART:20230320T180000
DTEND:20230320T180000
SUMMARY:Portes obertes a l'Institut Manolo Hugué. Xerrada informativa i visita a les instal·lacions - Batxillerat i Cicles Formatius
LOCATION:Josep Germà, 2 08140 Caldes de Montbui
METHOD:PUBLISH
X-WR-CALNAME:caldesm@caldesdemontbui.cat
X-WR-TIMEZONE:Europe/Madrid
DESCRIPTION:Educació Secundària Obligatòria i Batxillerat. Cicles Formatius de Grau Mitjà (Gestió Administrativa, Mecanització). Cicles Formatius de Grau Superior. (Administració i Finances, Programació de la  producció en Fabricació Mecànica, perfil professional en Motlles i Matrius, Termalisme i Benestar)

URI:https://www.caldesdemontbui.cat/actualitat/agenda/portes-obertes-a-linstitut-manolo-hugue-xerrada-informativa-i-visita-a-les-installacions-batxillerat-i-cicles-formatius.html
CLASS:PUBLIC
END:VEVENT
END:VCALENDAR
