BEGIN:VCALENDAR
VERSION:2.0
CALSCALE:GREGORIAN
PRODID:-//Diputació de Barcelona//DibaCMS//EN
BEGIN:VEVENT
UID:24869
DTSTAMP:20260423T185502
DTSTART:20230302T183000
DTEND:20230302T183000
SUMMARY:Portes obertes a l'Institut Pic del Vent. Xerrada informativa i visita a les instal·lacions
LOCATION:Maria Aurèlia Capmany, 2 08140 Caldes de Montbui
METHOD:PUBLISH
X-WR-CALNAME:caldesm@caldesdemontbui.cat
X-WR-TIMEZONE:Europe/Madrid
DESCRIPTION:Educació Secundària Obligatòria

URI:https://www.caldesdemontbui.cat/actualitat/agenda/portes-obertes-a-linstitut-pic-del-vent-xerrada-informativa-i-visita-a-les-installacions.html
CLASS:PUBLIC
END:VEVENT
END:VCALENDAR
