BEGIN:VCALENDAR
VERSION:2.0
CALSCALE:GREGORIAN
PRODID:-//Diputació de Barcelona//DibaCMS//EN
BEGIN:VEVENT
UID:24868
DTSTAMP:20260423T182729
DTSTART:20230303T150000
DTEND:20230303T163000
SUMMARY:Portes obertes a l'Escola Pia. Tasta l'escola. Visita l'escola en funcionament
LOCATION:Infantil i Primària: Av. Josep Fontcuberta, 166 / ESO i Batxillerat: Av. Pi i Margall, 157 08140 Caldes de Montbui
METHOD:PUBLISH
X-WR-CALNAME:caldesm@caldesdemontbui.cat
X-WR-TIMEZONE:Europe/Madrid
DESCRIPTION:Educació infantil i primària

URI:https://www.caldesdemontbui.cat/actualitat/agenda/portes-obertes-a-lescola-pia-tasta-lescola-visita-lescola-en-funcionament.html
CLASS:PUBLIC
END:VEVENT
END:VCALENDAR
