BEGIN:VCALENDAR
VERSION:2.0
CALSCALE:GREGORIAN
PRODID:-//Diputació de Barcelona//DibaCMS//EN
BEGIN:VEVENT
UID:24866
DTSTAMP:20260424T071348
DTSTART:20230223T200000
DTEND:20230223T200000
SUMMARY:Portes obertes a l'Escola Pia. Xerrada informativa (Batxillerat)
LOCATION:Infantil i Primària: Av. Josep Fontcuberta, 166 / ESO i Batxillerat: Av. Pi i Margall, 157 08140 Caldes de Montbui
METHOD:PUBLISH
X-WR-CALNAME:caldesm@caldesdemontbui.cat
X-WR-TIMEZONE:Europe/Madrid
DESCRIPTION:Educació Secundària Obligatòria. Educació infantil 2n cicle Educació Primària Educació Secundària Obligatòria i Batxillerat.Cicles Formatius de Grau Mitjà (Cures auxiliars d’infermeria)

URI:https://www.caldesdemontbui.cat/actualitat/agenda/portes-obertes-a-lescola-pia-xerrada-informativa-batxillerat.html
CLASS:PUBLIC
END:VEVENT
END:VCALENDAR
