BEGIN:VCALENDAR
VERSION:2.0
CALSCALE:GREGORIAN
PRODID:-//Diputació de Barcelona//DibaCMS//EN
BEGIN:VEVENT
UID:24860
DTSTAMP:20260423T182642
DTSTART:20230302T151500
DTEND:20230302T151500
SUMMARY:Portes obertes a l'Escola El Farell. L'escola en viu- Visita a l'escola en funcionament
LOCATION:Zona Esportiva, s/n 08140 Caldes de Montbui
METHOD:PUBLISH
X-WR-CALNAME:caldesm@caldesdemontbui.cat
X-WR-TIMEZONE:Europe/Madrid
DESCRIPTION:Educació Infantil 2n cicle i Educació Primària

URI:https://www.caldesdemontbui.cat/actualitat/agenda/portes-obertes-a-lescola-el-farell-lescola-en-viu-visita-a-lescola-en-funcionament.html
CLASS:PUBLIC
END:VEVENT
END:VCALENDAR
