BEGIN:VCALENDAR
VERSION:2.0
CALSCALE:GREGORIAN
PRODID:-//Diputació de Barcelona//DibaCMS//EN
BEGIN:VEVENT
UID:24858
DTSTAMP:20260423T213225
DTSTART:20230224T153000
DTEND:20230224T153000
SUMMARY:Portes obertes a l'Escola El Calderí
LOCATION:M. Aurèlia Capmany, 2 08140 Caldes de Montbui
METHOD:PUBLISH
X-WR-CALNAME:caldesm@caldesdemontbui.cat
X-WR-TIMEZONE:Europe/Madrid
DESCRIPTION:Educació Infantil 2n cicle i Educació Primària

URI:https://www.caldesdemontbui.cat/actualitat/agenda/portes-obertes-a-lescola-el-calderi.html
CLASS:PUBLIC
END:VEVENT
END:VCALENDAR
