BEGIN:VCALENDAR
VERSION:2.0
CALSCALE:GREGORIAN
PRODID:-//Diputació de Barcelona//DibaCMS//EN
BEGIN:VEVENT
UID:24843
DTSTAMP:20260423T101751
DTSTART:20230217T090000
DTEND:20230217T123000
SUMMARY:Juguestoltes. II Jornada de jocs de taula a l'Escola El Farell
LOCATION:Zona Esportiva, s/n 08140 Caldes de Montbui
METHOD:PUBLISH
X-WR-CALNAME:caldesm@caldesdemontbui.cat
X-WR-TIMEZONE:Europe/Madrid
DESCRIPTION:
URI:https://www.caldesdemontbui.cat/actualitat/agenda/juguestoltes-ii-jornada-de-jocs-de-taula-a-lescola-el-farell.html
CLASS:PUBLIC
END:VEVENT
END:VCALENDAR
