BEGIN:VCALENDAR
VERSION:2.0
CALSCALE:GREGORIAN
PRODID:-//Diputació de Barcelona//DibaCMS//EN
BEGIN:VEVENT
UID:24820
DTSTAMP:20260424T053121
DTSTART:20230225T170000
DTEND:20230225T170000
SUMMARY:Concert amb Zuria&Paul
LOCATION:C.Sentmenat, 6 8140 Caldes de Montbui
METHOD:PUBLISH
X-WR-CALNAME:caldesm@caldesdemontbui.cat
X-WR-TIMEZONE:Europe/Madrid
DESCRIPTION:
URI:https://www.caldesdemontbui.cat/actualitat/agenda/concert-amb-zuriaandpaul.html
CLASS:PUBLIC
END:VEVENT
END:VCALENDAR
