BEGIN:VCALENDAR
VERSION:2.0
CALSCALE:GREGORIAN
PRODID:-//Diputació de Barcelona//DibaCMS//EN
BEGIN:VEVENT
UID:24816
DTSTAMP:20260423T101128
DTSTART:20230217T161500
DTEND:20230217T161500
SUMMARY:Celebració de Carnaval amb els grups Riure per Viure i Balls i Danses
LOCATION:C.Sentmenat, 6 8140 Caldes de Montbui
METHOD:PUBLISH
X-WR-CALNAME:caldesm@caldesdemontbui.cat
X-WR-TIMEZONE:Europe/Madrid
DESCRIPTION:
URI:https://www.caldesdemontbui.cat/actualitat/agenda/celebracio-de-carnaval-amb-els-grups-riure-per-viure-i-balls-i-danses.html
CLASS:PUBLIC
END:VEVENT
END:VCALENDAR
