BEGIN:VCALENDAR
VERSION:2.0
CALSCALE:GREGORIAN
PRODID:-//Diputació de Barcelona//DibaCMS//EN
BEGIN:VEVENT
UID:24812
DTSTAMP:20260423T095202
DTSTART:20230208T090000
DTEND:20230208T090000
SUMMARY:Caminada a la Torre Marimon i Can Tarragona
LOCATION:
METHOD:PUBLISH
X-WR-CALNAME:caldesm@caldesdemontbui.cat
X-WR-TIMEZONE:Europe/Madrid
DESCRIPTION:
URI:https://www.caldesdemontbui.cat/actualitat/agenda/caminada-a-la-torre-marimon-i-can-tarragona.html
CLASS:PUBLIC
END:VEVENT
END:VCALENDAR
