BEGIN:VCALENDAR
VERSION:2.0
CALSCALE:GREGORIAN
PRODID:-//Diputació de Barcelona//DibaCMS//EN
BEGIN:VEVENT
UID:24811
DTSTAMP:20260423T150439
DTSTART:20230212T200000
DTEND:20230212T200000
SUMMARY:Concert de Luz Verde
LOCATION:Corredossos de Baix, 9-11 08140 Caldes de Montbui
METHOD:PUBLISH
X-WR-CALNAME:caldesm@caldesdemontbui.cat
X-WR-TIMEZONE:Europe/Madrid
DESCRIPTION:
URI:https://www.caldesdemontbui.cat/actualitat/agenda/concert-de-luz-verde.html
CLASS:PUBLIC
END:VEVENT
END:VCALENDAR
