BEGIN:VCALENDAR
VERSION:2.0
CALSCALE:GREGORIAN
PRODID:-//Diputació de Barcelona//DibaCMS//EN
BEGIN:VEVENT
UID:24801
DTSTAMP:20260423T113639
DTSTART:20230207T080000
DTEND:20230207T130000
SUMMARY:La deixalleria mòbil s’instal•larà el dimarts 7 de febrer de 8 a 13 h 
LOCATION:
METHOD:PUBLISH
X-WR-CALNAME:caldesm@caldesdemontbui.cat
X-WR-TIMEZONE:Europe/Madrid
DESCRIPTION:
URI:https://www.caldesdemontbui.cat/actualitat/agenda/la-deixalleria-mobil-sinstallara-el-dimarts-7-de-febrer-de-8-a-13-h-.html
CLASS:PUBLIC
END:VEVENT
END:VCALENDAR
