BEGIN:VCALENDAR
VERSION:2.0
CALSCALE:GREGORIAN
PRODID:-//Diputació de Barcelona//DibaCMS//EN
BEGIN:VEVENT
UID:24799
DTSTAMP:20260423T083427
DTSTART:20230218T170000
DTEND:20230218T170000
SUMMARY:Carnestoltes 2023
LOCATION:
METHOD:PUBLISH
X-WR-CALNAME:caldesm@caldesdemontbui.cat
X-WR-TIMEZONE:Europe/Madrid
DESCRIPTION:
URI:https://www.caldesdemontbui.cat/actualitat/agenda/24799-carnestoltes-2023.html
CLASS:PUBLIC
END:VEVENT
END:VCALENDAR
