BEGIN:VCALENDAR
VERSION:2.0
CALSCALE:GREGORIAN
PRODID:-//Diputació de Barcelona//DibaCMS//EN
BEGIN:VEVENT
UID:24754
DTSTAMP:20260423T122431
DTSTART:20230117T191500
DTEND:20230117T191500
SUMMARY:Sant Antoni Abat 2023. Missa de difunts de la Facultat de Sant Antoni 
LOCATION:
METHOD:PUBLISH
X-WR-CALNAME:caldesm@caldesdemontbui.cat
X-WR-TIMEZONE:Europe/Madrid
DESCRIPTION:
URI:https://www.caldesdemontbui.cat/actualitat/agenda/sant-antoni-abat-2023-missa-de-difunts-de-la-facultat-de-sant-antoni-.html
CLASS:PUBLIC
END:VEVENT
END:VCALENDAR
