BEGIN:VCALENDAR
VERSION:2.0
CALSCALE:GREGORIAN
PRODID:-//Diputació de Barcelona//DibaCMS//EN
BEGIN:VEVENT
UID:24742
DTSTAMP:20260423T075656
DTSTART:20230315T190000
DTEND:20230315T190000
SUMMARY:Conferència "Jazz, la música que canvia el mon"
LOCATION:Carrer del Pont, 3 08140 Caldes de Montbui
METHOD:PUBLISH
X-WR-CALNAME:caldesm@caldesdemontbui.cat
X-WR-TIMEZONE:Europe/Madrid
DESCRIPTION:
URI:https://www.caldesdemontbui.cat/actualitat/agenda/conferencia-jazz-la-musica-que-canvia-el-mon.html
CLASS:PUBLIC
END:VEVENT
END:VCALENDAR
