BEGIN:VCALENDAR
VERSION:2.0
CALSCALE:GREGORIAN
PRODID:-//Diputació de Barcelona//DibaCMS//EN
BEGIN:VEVENT
UID:24741
DTSTAMP:20260423T163200
DTSTART:20230305T190000
DTEND:20230305T190000
SUMMARY:Sortida a l'Auditori de Granollers
LOCATION:
METHOD:PUBLISH
X-WR-CALNAME:caldesm@caldesdemontbui.cat
X-WR-TIMEZONE:Europe/Madrid
DESCRIPTION:
URI:https://www.caldesdemontbui.cat/actualitat/agenda/sortida-a-lauditori-de-granollers.html
CLASS:PUBLIC
END:VEVENT
END:VCALENDAR
