BEGIN:VCALENDAR
VERSION:2.0
CALSCALE:GREGORIAN
PRODID:-//Diputació de Barcelona//DibaCMS//EN
BEGIN:VEVENT
UID:24740
DTSTAMP:20260423T113028
DTSTART:20230301T190000
DTEND:20230301T190000
SUMMARY:Conferència "La vida a través d'una càmera"
LOCATION:Carrer del Pont, 3 08140 Caldes de Montbui
METHOD:PUBLISH
X-WR-CALNAME:caldesm@caldesdemontbui.cat
X-WR-TIMEZONE:Europe/Madrid
DESCRIPTION:
URI:https://www.caldesdemontbui.cat/actualitat/agenda/conferencia-la-vida-a-traves-duna-camera.html
CLASS:PUBLIC
END:VEVENT
END:VCALENDAR
