BEGIN:VCALENDAR
VERSION:2.0
CALSCALE:GREGORIAN
PRODID:-//Diputació de Barcelona//DibaCMS//EN
BEGIN:VEVENT
UID:24739
DTSTAMP:20260423T064326
DTSTART:20230215T190000
DTEND:20230215T190000
SUMMARY:Conferència "Boscos i masies, dos patrimonis que cal reivindicar"
LOCATION:Carrer del Pont, 3 08140 Caldes de Montbui
METHOD:PUBLISH
X-WR-CALNAME:caldesm@caldesdemontbui.cat
X-WR-TIMEZONE:Europe/Madrid
DESCRIPTION:
URI:https://www.caldesdemontbui.cat/actualitat/agenda/conferencia-boscos-i-masies-dos-patrimonis-que-cal-reivindicar.html
CLASS:PUBLIC
END:VEVENT
END:VCALENDAR
