BEGIN:VCALENDAR
VERSION:2.0
CALSCALE:GREGORIAN
PRODID:-//Diputació de Barcelona//DibaCMS//EN
BEGIN:VEVENT
UID:24736
DTSTAMP:20260423T152245
DTSTART:20230121T193000
DTEND:20230121T193000
SUMMARY:Caldes is Hell
LOCATION:Corredossos de Baix, 9-11 08140 Caldes de Montbui
METHOD:PUBLISH
X-WR-CALNAME:caldesm@caldesdemontbui.cat
X-WR-TIMEZONE:Europe/Madrid
DESCRIPTION:
URI:https://www.caldesdemontbui.cat/actualitat/agenda/24736-caldes-is-hell.html
CLASS:PUBLIC
END:VEVENT
END:VCALENDAR
