BEGIN:VCALENDAR
VERSION:2.0
CALSCALE:GREGORIAN
PRODID:-//Diputació de Barcelona//DibaCMS//EN
BEGIN:VEVENT
UID:24733
DTSTAMP:20260423T135751
DTSTART:20230122T100000
DTEND:20230122T140000
SUMMARY:Exposició “The lost art of Keeping our Children Privacy” del 13 al 29 de gener, a la Sala Delger  
LOCATION:Carrer del Forn, 8bis 08140 Caldes de Montbui
METHOD:PUBLISH
X-WR-CALNAME:caldesm@caldesdemontbui.cat
X-WR-TIMEZONE:Europe/Madrid
DESCRIPTION:
URI:https://www.caldesdemontbui.cat/actualitat/agenda/24733-exposicio-the-lost-art-of-keeping-our-children-privacy-del-13-al-29-de-gener-a-la-sala-delger-.html
CLASS:PUBLIC
END:VEVENT
END:VCALENDAR
