BEGIN:VCALENDAR
VERSION:2.0
CALSCALE:GREGORIAN
PRODID:-//Diputació de Barcelona//DibaCMS//EN
BEGIN:VEVENT
UID:24719
DTSTAMP:20260423T075139
DTSTART:20230209T190000
DTEND:20230209T190000
SUMMARY:Curs ' Biologia dels ocells nocturns' a càrrec d'Abel Julien 
LOCATION:Josep Germà, 2 08140 Caldes de Montbui
METHOD:PUBLISH
X-WR-CALNAME:caldesm@caldesdemontbui.cat
X-WR-TIMEZONE:Europe/Madrid
DESCRIPTION:
URI:https://www.caldesdemontbui.cat/actualitat/agenda/curs--biologia-dels-ocells-nocturns-a-carrec-dabel-julien-.html
CLASS:PUBLIC
END:VEVENT
END:VCALENDAR
