BEGIN:VCALENDAR
VERSION:2.0
CALSCALE:GREGORIAN
PRODID:-//Diputació de Barcelona//DibaCMS//EN
BEGIN:VEVENT
UID:24713
DTSTAMP:20260424T004309
DTSTART:20230112T173000
DTEND:20230112T190000
SUMMARY:Curs 'El futur ja és aquí' a càrrec de Jaume Mateu
LOCATION: Corredossos de Baix, 9-11 (antic 1) 8140 Caldes de Montbui
METHOD:PUBLISH
X-WR-CALNAME:caldesm@caldesdemontbui.cat
X-WR-TIMEZONE:Europe/Madrid
DESCRIPTION:
URI:https://www.caldesdemontbui.cat/actualitat/agenda/curs-el-futur-ja-es-aqui-a-carrec-de-jaume-mateu.html
CLASS:PUBLIC
END:VEVENT
END:VCALENDAR
