BEGIN:VCALENDAR
VERSION:2.0
CALSCALE:GREGORIAN
PRODID:-//Diputació de Barcelona//DibaCMS//EN
BEGIN:VEVENT
UID:24712
DTSTAMP:20260424T020130
DTSTART:20230113T210000
DTEND:20230113T210000
SUMMARY:Assemblea general ordinària de socis del CECMO
LOCATION:Buenos Aires, 16-18 08140 Caldes de Montbui
METHOD:PUBLISH
X-WR-CALNAME:caldesm@caldesdemontbui.cat
X-WR-TIMEZONE:Europe/Madrid
DESCRIPTION:
URI:https://www.caldesdemontbui.cat/actualitat/agenda/assemblea-general-ordinaria-de-socis-del-cecmo.html
CLASS:PUBLIC
END:VEVENT
END:VCALENDAR
