BEGIN:VCALENDAR
VERSION:2.0
CALSCALE:GREGORIAN
PRODID:-//Diputació de Barcelona//DibaCMS//EN
BEGIN:VEVENT
UID:24689
DTSTAMP:20260423T134035
DTSTART:20230111T190000
DTEND:20230111T190000
SUMMARY:Xerrada "Com es desenvolupen els fàrmacs que ens prenem cada matí"
LOCATION:Carrer del Pont, 3 08140 Caldes de Montbui
METHOD:PUBLISH
X-WR-CALNAME:caldesm@caldesdemontbui.cat
X-WR-TIMEZONE:Europe/Madrid
DESCRIPTION:
URI:https://www.caldesdemontbui.cat/actualitat/agenda/xerrada-com-es-desenvolupen-els-farmacs-que-ens-prenem-cada-mati.html
CLASS:PUBLIC
END:VEVENT
END:VCALENDAR
