BEGIN:VCALENDAR
VERSION:2.0
CALSCALE:GREGORIAN
PRODID:-//Diputació de Barcelona//DibaCMS//EN
BEGIN:VEVENT
UID:24669
DTSTAMP:20260423T114915
DTSTART:20221218T100000
DTEND:20221218T140000
SUMMARY:Fira d’antiquaris i brocanters del mes de desembre - duplicat
LOCATION:
METHOD:PUBLISH
X-WR-CALNAME:caldesm@caldesdemontbui.cat
X-WR-TIMEZONE:Europe/Madrid
DESCRIPTION:
URI:https://www.caldesdemontbui.cat/actualitat/agenda/fira-dantiquaris-i-brocanters-del-mes-de-desembre-duplicat.html
CLASS:PUBLIC
END:VEVENT
END:VCALENDAR
