BEGIN:VCALENDAR
VERSION:2.0
CALSCALE:GREGORIAN
PRODID:-//Diputació de Barcelona//DibaCMS//EN
BEGIN:VEVENT
UID:24654
DTSTAMP:20260423T200933
DTSTART:20230107T080000
DTEND:20230107T220000
SUMMARY:Nadal 2022. Torneig 4x4 Patins de Gel
LOCATION:Carrer del Pont, 3 08140 Caldes de Montbui
METHOD:PUBLISH
X-WR-CALNAME:caldesm@caldesdemontbui.cat
X-WR-TIMEZONE:Europe/Madrid
DESCRIPTION:
URI:https://www.caldesdemontbui.cat/actualitat/agenda/nadal-2022-torneig-4x4-patins-de-gel.html
CLASS:PUBLIC
END:VEVENT
END:VCALENDAR
