BEGIN:VCALENDAR
VERSION:2.0
CALSCALE:GREGORIAN
PRODID:-//Diputació de Barcelona//DibaCMS//EN
BEGIN:VEVENT
UID:24650
DTSTAMP:20260423T200627
DTSTART:20230105T190000
DTEND:20230105T203000
SUMMARY:Nadal 2022. Cavalcada de Reis
LOCATION:
METHOD:PUBLISH
X-WR-CALNAME:caldesm@caldesdemontbui.cat
X-WR-TIMEZONE:Europe/Madrid
DESCRIPTION:
URI:https://www.caldesdemontbui.cat/actualitat/agenda/nadal-2022-cavalcada-de-reis.html
CLASS:PUBLIC
END:VEVENT
END:VCALENDAR
