BEGIN:VCALENDAR
VERSION:2.0
CALSCALE:GREGORIAN
PRODID:-//Diputació de Barcelona//DibaCMS//EN
BEGIN:VEVENT
UID:24649
DTSTAMP:20260423T132150
DTSTART:20230105T183000
DTEND:20230105T183000
SUMMARY:Nadal 2022. Entrega de les claus de la vila
LOCATION:
METHOD:PUBLISH
X-WR-CALNAME:caldesm@caldesdemontbui.cat
X-WR-TIMEZONE:Europe/Madrid
DESCRIPTION:
URI:https://www.caldesdemontbui.cat/actualitat/agenda/nadal-2022-entrega-de-les-claus-de-la-vila.html
CLASS:PUBLIC
END:VEVENT
END:VCALENDAR
