BEGIN:VCALENDAR
VERSION:2.0
CALSCALE:GREGORIAN
PRODID:-//Diputació de Barcelona//DibaCMS//EN
BEGIN:VEVENT
UID:24648
DTSTAMP:20260423T150408
DTSTART:20230105T110000
DTEND:20230105T130000
SUMMARY:Nadal 2022. Parc Reial  
LOCATION:
METHOD:PUBLISH
X-WR-CALNAME:caldesm@caldesdemontbui.cat
X-WR-TIMEZONE:Europe/Madrid
DESCRIPTION:
URI:https://www.caldesdemontbui.cat/actualitat/agenda/24648-nadal-2022-parc-reial-.html
CLASS:PUBLIC
END:VEVENT
END:VCALENDAR
