BEGIN:VCALENDAR
VERSION:2.0
CALSCALE:GREGORIAN
PRODID:-//Diputació de Barcelona//DibaCMS//EN
BEGIN:VEVENT
UID:24645
DTSTAMP:20260423T152817
DTSTART:20230101T183000
DTEND:20230101T183000
SUMMARY:Nadal 2022.“Els Pastorets” de Josep M. Folch i Torres
LOCATION:
METHOD:PUBLISH
X-WR-CALNAME:caldesm@caldesdemontbui.cat
X-WR-TIMEZONE:Europe/Madrid
DESCRIPTION:
URI:https://www.caldesdemontbui.cat/actualitat/agenda/24645-nadal-2022els-pastorets-de-josep-m-folch-i-torres.html
CLASS:PUBLIC
END:VEVENT
END:VCALENDAR
