BEGIN:VCALENDAR
VERSION:2.0
CALSCALE:GREGORIAN
PRODID:-//Diputació de Barcelona//DibaCMS//EN
BEGIN:VEVENT
UID:24644
DTSTAMP:20260423T120150
DTSTART:20221228T163000
DTEND:20221228T163000
SUMMARY:Nadal 2022.“Els Pastorets” de Josep M. Folch i Torres
LOCATION:
METHOD:PUBLISH
X-WR-CALNAME:caldesm@caldesdemontbui.cat
X-WR-TIMEZONE:Europe/Madrid
DESCRIPTION:
URI:https://www.caldesdemontbui.cat/actualitat/agenda/24644-nadal-2022els-pastorets-de-josep-m-folch-i-torres.html
CLASS:PUBLIC
END:VEVENT
END:VCALENDAR
