BEGIN:VCALENDAR
VERSION:2.0
CALSCALE:GREGORIAN
PRODID:-//Diputació de Barcelona//DibaCMS//EN
BEGIN:VEVENT
UID:24639
DTSTAMP:20260423T134245
DTSTART:20221224T120000
DTEND:20221224T120000
SUMMARY:Nadal 2022. Pessebre vivent
LOCATION:
METHOD:PUBLISH
X-WR-CALNAME:caldesm@caldesdemontbui.cat
X-WR-TIMEZONE:Europe/Madrid
DESCRIPTION:
URI:https://www.caldesdemontbui.cat/actualitat/agenda/nadal-2022-pessebre-vivent.html
CLASS:PUBLIC
END:VEVENT
END:VCALENDAR
