BEGIN:VCALENDAR
VERSION:2.0
CALSCALE:GREGORIAN
PRODID:-//Diputació de Barcelona//DibaCMS//EN
BEGIN:VEVENT
UID:24638
DTSTAMP:20260423T121100
DTSTART:20221222T203000
DTEND:20221222T203000
SUMMARY:Nadal 2022. Xmas Zumba: classe de zumba
LOCATION:
METHOD:PUBLISH
X-WR-CALNAME:caldesm@caldesdemontbui.cat
X-WR-TIMEZONE:Europe/Madrid
DESCRIPTION:
URI:https://www.caldesdemontbui.cat/actualitat/agenda/nadal-2022-xmas-zumba-classe-de-zumba.html
CLASS:PUBLIC
END:VEVENT
END:VCALENDAR
