BEGIN:VCALENDAR
VERSION:2.0
CALSCALE:GREGORIAN
PRODID:-//Diputació de Barcelona//DibaCMS//EN
BEGIN:VEVENT
UID:24634
DTSTAMP:20260423T133356
DTSTART:20221221T193000
DTEND:20221221T193000
SUMMARY:Nadal 2022. Concert de Nadal de corals i orquestres
LOCATION:Carrer del Pont, 3 08140 Caldes de Montbui
METHOD:PUBLISH
X-WR-CALNAME:caldesm@caldesdemontbui.cat
X-WR-TIMEZONE:Europe/Madrid
DESCRIPTION:
URI:https://www.caldesdemontbui.cat/actualitat/agenda/nadal-2022-concert-de-nadal-de-corals-i-orquestres.html
CLASS:PUBLIC
END:VEVENT
END:VCALENDAR
