BEGIN:VCALENDAR
VERSION:2.0
CALSCALE:GREGORIAN
PRODID:-//Diputació de Barcelona//DibaCMS//EN
BEGIN:VEVENT
UID:24630
DTSTAMP:20260423T184843
DTSTART:20221218T183000
DTEND:20221218T183000
SUMMARY:Nadal 2022. Concert de la Coral Infantil
LOCATION:Buenos Aires, 16 08140 Caldes de Montbui
METHOD:PUBLISH
X-WR-CALNAME:caldesm@caldesdemontbui.cat
X-WR-TIMEZONE:Europe/Madrid
DESCRIPTION:
URI:https://www.caldesdemontbui.cat/actualitat/agenda/nadal-2022-concert-de-la-coral-infantil.html
CLASS:PUBLIC
END:VEVENT
END:VCALENDAR
