BEGIN:VCALENDAR
VERSION:2.0
CALSCALE:GREGORIAN
PRODID:-//Diputació de Barcelona//DibaCMS//EN
BEGIN:VEVENT
UID:24628
DTSTAMP:20260423T114841
DTSTART:20221218T163000
DTEND:20221218T163000
SUMMARY:Nadal 2022. XI Festival de Nadal i presentació patinadors temporada 2022/23
LOCATION:Passatge Torre Roja, s/n 08140 Caldes de Montbui
METHOD:PUBLISH
X-WR-CALNAME:caldesm@caldesdemontbui.cat
X-WR-TIMEZONE:Europe/Madrid
DESCRIPTION:
URI:https://www.caldesdemontbui.cat/actualitat/agenda/nadal-2022-xi-festival-de-nadal-i-presentacio-patinadors-temporada-202223.html
CLASS:PUBLIC
END:VEVENT
END:VCALENDAR
