BEGIN:VCALENDAR
VERSION:2.0
CALSCALE:GREGORIAN
PRODID:-//Diputació de Barcelona//DibaCMS//EN
BEGIN:VEVENT
UID:24627
DTSTAMP:20260423T114801
DTSTART:20221218T100000
DTEND:20221218T100000
SUMMARY:Nadal 2022. Esmorzar Popular
LOCATION:
METHOD:PUBLISH
X-WR-CALNAME:caldesm@caldesdemontbui.cat
X-WR-TIMEZONE:Europe/Madrid
DESCRIPTION:
URI:https://www.caldesdemontbui.cat/actualitat/agenda/nadal-2022-esmorzar-popular.html
CLASS:PUBLIC
END:VEVENT
END:VCALENDAR
