BEGIN:VCALENDAR
VERSION:2.0
CALSCALE:GREGORIAN
PRODID:-//Diputació de Barcelona//DibaCMS//EN
BEGIN:VEVENT
UID:24626
DTSTAMP:20260423T134212
DTSTART:20221218T083000
DTEND:20221218T140000
SUMMARY:Nadal 2022. Caldes Bull amb la Marató
LOCATION:
METHOD:PUBLISH
X-WR-CALNAME:caldesm@caldesdemontbui.cat
X-WR-TIMEZONE:Europe/Madrid
DESCRIPTION:
URI:https://www.caldesdemontbui.cat/actualitat/agenda/nadal-2022-caldes-bull-amb-la-marato.html
CLASS:PUBLIC
END:VEVENT
END:VCALENDAR
