BEGIN:VCALENDAR
VERSION:2.0
CALSCALE:GREGORIAN
PRODID:-//Diputació de Barcelona//DibaCMS//EN
BEGIN:VEVENT
UID:24624
DTSTAMP:20260423T100953
DTSTART:20221217T213000
DTEND:20221217T213000
SUMMARY:Nadal 2022. Quinto de Nadal
LOCATION:
METHOD:PUBLISH
X-WR-CALNAME:caldesm@caldesdemontbui.cat
X-WR-TIMEZONE:Europe/Madrid
DESCRIPTION:
URI:https://www.caldesdemontbui.cat/actualitat/agenda/nadal-2022-quinto-de-nadal.html
CLASS:PUBLIC
END:VEVENT
END:VCALENDAR
