BEGIN:VCALENDAR
VERSION:2.0
CALSCALE:GREGORIAN
PRODID:-//Diputació de Barcelona//DibaCMS//EN
BEGIN:VEVENT
UID:24623
DTSTAMP:20260423T103030
DTSTART:20221217T200000
DTEND:20221217T200000
SUMMARY:Nadal 2022. Cicle de Monòlegs d’humor:  “Nit d’Homilies” amb Marc Sarrats, Marta Bosch, Raquel Hervás i Godai Garcia
LOCATION:
METHOD:PUBLISH
X-WR-CALNAME:caldesm@caldesdemontbui.cat
X-WR-TIMEZONE:Europe/Madrid
DESCRIPTION:
URI:https://www.caldesdemontbui.cat/actualitat/agenda/nadal-2022-cicle-de-monolegs-dhumor-nit-dhomilies-amb-marc-sarrats-marta-bosch-raquel-hervas-i-godai-garcia.html
CLASS:PUBLIC
END:VEVENT
END:VCALENDAR
