BEGIN:VCALENDAR
VERSION:2.0
CALSCALE:GREGORIAN
PRODID:-//Diputació de Barcelona//DibaCMS//EN
BEGIN:VEVENT
UID:24622
DTSTAMP:20260423T164632
DTSTART:20221217T180000
DTEND:20221217T180000
SUMMARY:Nadal 2022. Màster Class de Zumba
LOCATION:
METHOD:PUBLISH
X-WR-CALNAME:caldesm@caldesdemontbui.cat
X-WR-TIMEZONE:Europe/Madrid
DESCRIPTION:
URI:https://www.caldesdemontbui.cat/actualitat/agenda/nadal-2022-master-class-de-zumba.html
CLASS:PUBLIC
END:VEVENT
END:VCALENDAR
