BEGIN:VCALENDAR
VERSION:2.0
CALSCALE:GREGORIAN
PRODID:-//Diputació de Barcelona//DibaCMS//EN
BEGIN:VEVENT
UID:24620
DTSTAMP:20260423T094942
DTSTART:20221217T110000
DTEND:20221217T110000
SUMMARY:Nadal 2022. Fem cagar el Tió al Nucli Antic
LOCATION:
METHOD:PUBLISH
X-WR-CALNAME:caldesm@caldesdemontbui.cat
X-WR-TIMEZONE:Europe/Madrid
DESCRIPTION:
URI:https://www.caldesdemontbui.cat/actualitat/agenda/nadal-2022-fem-cagar-el-tio-al-nucli-antic.html
CLASS:PUBLIC
END:VEVENT
END:VCALENDAR
