BEGIN:VCALENDAR
VERSION:2.0
CALSCALE:GREGORIAN
PRODID:-//Diputació de Barcelona//DibaCMS//EN
BEGIN:VEVENT
UID:24619
DTSTAMP:20260423T095052
DTSTART:20221217T100000
DTEND:20221217T180000
SUMMARY:Nadal 2022.Catifes de flors de Nadal: adults “Els Reis d’Orient segueixen l’estrella” i infantil “L’arbre de Nadal”
LOCATION:
METHOD:PUBLISH
X-WR-CALNAME:caldesm@caldesdemontbui.cat
X-WR-TIMEZONE:Europe/Madrid
DESCRIPTION:
URI:https://www.caldesdemontbui.cat/actualitat/agenda/nadal-2022catifes-de-flors-de-nadal-adults-els-reis-dorient-segueixen-lestrella-i-infantil-larbre-de-nadal.html
CLASS:PUBLIC
END:VEVENT
END:VCALENDAR
